BEGIN:VCALENDAR
VERSION:2.0
PRODID:spatie/icalendar-generator
DESCRIPTION:Events from NOBLE Washington Metro Chapter
X-WR-CALDESC:Events from NOBLE Washington Metro Chapter
REFRESH-INTERVAL;VALUE=DURATION:PT1440M
X-PUBLISHED-TTL:PT1440M
BEGIN:VTIMEZONE
TZID:America/New_York
BEGIN:STANDARD
DTSTART:20251102T020000Z
TZOFFSETFROM:-0400
TZOFFSETTO:-0500
END:STANDARD
BEGIN:DAYLIGHT
DTSTART:20260308T020000Z
TZOFFSETFROM:-0500
TZOFFSETTO:-0400
END:DAYLIGHT
END:VTIMEZONE
BEGIN:VTIMEZONE
TZID:UTC
BEGIN:STANDARD
DTSTART:20250726T102714Z
TZOFFSETFROM:+0000
TZOFFSETTO:+0000
END:STANDARD
END:VTIMEZONE
BEGIN:VEVENT
UID:22-19
DTSTAMP:20260422T102714Z
SUMMARY:December 2025 Chapter Business Meeting
LOCATION:Lamond-Riggs Campus of UDC Community College 5171 South Dakota Ave
  NE  Washington DC
ORGANIZER;CN=Webmaster:MAILTO:courtneyslatenjd@gmail.com
DTSTART;TZID=America/New_York:20251211T180000
DTEND;TZID=America/New_York:20251211T193000
X-ALT-DESC;FMTTYPE=TEXT/HTML:<p>Join us on December 11\, 2025 @ 6:00PM East
 ern for the NOBLE Washington Metro Chapter Meeting at the Lamond-Riggs Cam
 pus of UDC Community College at 5171 South Dakota Ave NE. See attached fly
 er for details\, including parking info.</p>\n<p>NOTE: Food will be served
  starting at 5:30PM for $5. Also\, 50/50 raffle tickets will be available 
 at a cost of $5 for 6 tickets.</p>\n
CATEGORIES:Chapter Meeting
URL;VALUE=URI:https://www.noblewmc.org/mc-events/december-2025-chapter-busi
 ness-meeting/?mc_id=22
END:VEVENT
END:VCALENDAR